BEGIN:VCALENDAR
VERSION:2.0
PRODID:-//Association of Turkish Alumni and Students in Scotland - ECPv6.15.17.1//NONSGML v1.0//EN
CALSCALE:GREGORIAN
METHOD:PUBLISH
X-WR-CALNAME:Association of Turkish Alumni and Students in Scotland
X-ORIGINAL-URL:https://atas.org.uk
X-WR-CALDESC:Events for Association of Turkish Alumni and Students in Scotland
REFRESH-INTERVAL;VALUE=DURATION:PT1H
X-Robots-Tag:noindex
X-PUBLISHED-TTL:PT1H
BEGIN:VTIMEZONE
TZID:Europe/London
BEGIN:DAYLIGHT
TZOFFSETFROM:+0000
TZOFFSETTO:+0100
TZNAME:BST
DTSTART:20250330T010000
END:DAYLIGHT
BEGIN:STANDARD
TZOFFSETFROM:+0100
TZOFFSETTO:+0000
TZNAME:GMT
DTSTART:20251026T010000
END:STANDARD
BEGIN:DAYLIGHT
TZOFFSETFROM:+0000
TZOFFSETTO:+0100
TZNAME:BST
DTSTART:20260329T010000
END:DAYLIGHT
BEGIN:STANDARD
TZOFFSETFROM:+0100
TZOFFSETTO:+0000
TZNAME:GMT
DTSTART:20261025T010000
END:STANDARD
BEGIN:DAYLIGHT
TZOFFSETFROM:+0000
TZOFFSETTO:+0100
TZNAME:BST
DTSTART:20270328T010000
END:DAYLIGHT
BEGIN:STANDARD
TZOFFSETFROM:+0100
TZOFFSETTO:+0000
TZNAME:GMT
DTSTART:20271031T010000
END:STANDARD
END:VTIMEZONE
BEGIN:VEVENT
DTSTART;TZID=Europe/London:20260207T180000
DTEND;TZID=Europe/London:20260207T210000
DTSTAMP:20260421T153249
CREATED:20260203T140249Z
LAST-MODIFIED:20260203T170452Z
UID:8429-1770487200-1770498000@atas.org.uk
SUMMARY:Tchaikovsky’s Fifth Symphony
DESCRIPTION:🇬🇧\nPlease RSVP for this event and purchase your tickets via the link below:👉 https://www.glasgowlife.org.uk/event/1/rsno-202526-tchaikovskys-fifth-symphony \nTo sit together\, we recommend booking seats in Row U (seats 1–15). \nEveryone is warmly invited to join us for an informal pre-concert gathering ahead of Royal Scottish National Orchestra’s performance of Tchaikovsky’s Fifth Symphony. \nWe will meet around 6.00 PM in front of the Glasgow Royal Concert Hall for coffee and conversation before heading into the concert\, which begins at 7.30 PM. \nPyotr Ilyich Tchaikovsky’s Fifth Symphony is one of the most powerful works of the Romantic repertoire\, exploring themes of fate\, struggle\, and transformation. \n📍 Meeting point: In front of Glasgow Royal Concert Hall🕕 6.00 PM – Coffee & chat🕢 7.30 PM – Concert starts \n\n🇹🇷\nLütfen etkinliğe katılım bildirimi (RSVP) yapmayı ve biletlerinizi aşağıdaki bağlantıdan satın almayı unutmayın:👉 https://www.glasgowlife.org.uk/event/1/rsno-202526-tchaikovskys-fifth-symphony \nBirlikte oturabilmek için U sırası (1–15 numaralı koltuklar) önerilmektedir. \nHerkesi\, Royal Scottish National Orchestra’nın Çaykovski’nin 5. Senfonisi icrası öncesinde düzenleyeceğimiz samimi bir buluşmaya davet ediyoruz. \nKonser öncesinde saat 18.00 civarında\, Glasgow Royal Concert Hall önünde buluşup kahve içerek sohbet edeceğiz. Konser 19.30’da başlayacaktır. \nPyotr Ilyich Tchaikovsky’nin 5. Senfonisi\, kader\, mücadele ve dönüşüm temalarını işleyen\, Romantik dönemin en güçlü senfonik eserlerinden biridir. \n📍 Buluşma noktası: Glasgow Royal Concert Hall önü🕕 18.00 – Kahve & sohbet🕢 19.30 – Konser başlangıcı
URL:https://atas.org.uk/event/tchaikovskys-fifth-symphony
LOCATION:Glasgow Royal Concert Hall\, 2 Killermont St\, Glasgow G2 3NW\, Glasgow\, G2 3NW\, United Kingdom
ATTACH;FMTTYPE=image/jpeg:https://atas.org.uk/wp-content/uploads/2026/02/fa1beaea-c322-4ed0-9032-b2ad00b11f83.jpg
ORGANIZER;CN="ATAS":MAILTO:CONTACT@ATAS.ORG.UK
END:VEVENT
END:VCALENDAR