BEGIN:VCALENDAR
VERSION:2.0
PRODID:-//Association of Turkish Alumni and Students in Scotland - ECPv6.15.17.1//NONSGML v1.0//EN
CALSCALE:GREGORIAN
METHOD:PUBLISH
X-ORIGINAL-URL:https://atas.org.uk
X-WR-CALDESC:Events for Association of Turkish Alumni and Students in Scotland
REFRESH-INTERVAL;VALUE=DURATION:PT1H
X-Robots-Tag:noindex
X-PUBLISHED-TTL:PT1H
BEGIN:VTIMEZONE
TZID:Europe/London
BEGIN:DAYLIGHT
TZOFFSETFROM:+0000
TZOFFSETTO:+0100
TZNAME:BST
DTSTART:20250330T010000
END:DAYLIGHT
BEGIN:STANDARD
TZOFFSETFROM:+0100
TZOFFSETTO:+0000
TZNAME:GMT
DTSTART:20251026T010000
END:STANDARD
BEGIN:DAYLIGHT
TZOFFSETFROM:+0000
TZOFFSETTO:+0100
TZNAME:BST
DTSTART:20260329T010000
END:DAYLIGHT
BEGIN:STANDARD
TZOFFSETFROM:+0100
TZOFFSETTO:+0000
TZNAME:GMT
DTSTART:20261025T010000
END:STANDARD
BEGIN:DAYLIGHT
TZOFFSETFROM:+0000
TZOFFSETTO:+0100
TZNAME:BST
DTSTART:20270328T010000
END:DAYLIGHT
BEGIN:STANDARD
TZOFFSETFROM:+0100
TZOFFSETTO:+0000
TZNAME:GMT
DTSTART:20271031T010000
END:STANDARD
END:VTIMEZONE
BEGIN:VEVENT
DTSTART;TZID=Europe/London:20260131T153000
DTEND;TZID=Europe/London:20260131T173000
DTSTAMP:20260421T122154
CREATED:20260127T145235Z
LAST-MODIFIED:20260127T174417Z
UID:8404-1769873400-1769880600@atas.org.uk
SUMMARY:Burns Night with a Turkish Touch: Poetry\, Food\, and Shared Traditions
DESCRIPTION:🇬🇧 \nJoin us for a special Burns Night that brings Scottish and Turkish poetry together in a warm and welcoming setting. \nThe evening will open with a live performance by Anam Alba\, who will both recite and perform Robert Burns’ poems in song\, staying true to the spirit and tradition of Burns Night. \nFollowing the Burns performance\, the programme will turn to Turkish poetry. A guest academic will read selected poems and share brief reflections\, after which attendees are warmly invited to step forward and read poems by Turkish poets of their choice\, creating an open and participatory atmosphere. \nThroughout the evening\, guests will enjoy a selection of Scottish and Turkish delicacies\, making this a shared cultural experience around poetry\, music\, and food. \nNo prior knowledge of poetry is needed—just curiosity and a willingness to share the moment. \n\n🇹🇷\nİskoç ve Türk şiirini aynı masada buluşturan özel bir Burns Gecesi’ne davetlisiniz. \nAkşam\, Burns Gecesi geleneğine uygun olarak Anam Alba’nın Robert Burns şiirlerini hem okuduğu hem de şarkı olarak seslendirdiği performansla başlayacak. Şiir ve müziğin iç içe geçtiği bu bölüm\, gecenin İskoç tarafını güçlü bir şekilde açacak. \nArdından program Türk şiirine geçecek. Bir akademisyen konuğumuz Türk şiirinden seçilmiş örnekler okuyacak; sonrasında ise isteyen katılımcılar sevdikleri Türk şairlerden şiirler okumak üzere söz alabilecek. Böylece akşam\, katılıma açık ve samimi bir paylaşıma dönüşecek. \nEtkinlik boyunca İskoç ve Türk mutfağından ikramlar da sunulacak. Bu buluşma\, şiiri ve kültürü resmiyetten uzak\, birlikte paylaşmaya dayalı bir ortamda buluşturmayı amaçlıyor. \nŞiirle çok içli dışlı olmanız gerekmiyor — dinlemek\, katılmak ve birlikte olmak yeterli.
URL:https://atas.org.uk/event/burns-night-with-a-turkish-touch
LOCATION:Flatbread Turkish Bakery House\, 48 Haymarket Terrace\, Edinburgh\, EH12 5LA\, United Kingdom
ATTACH;FMTTYPE=image/png:https://atas.org.uk/wp-content/uploads/2026/01/ChatGPT-Image-Jan-27-2026-02_46_11-PM.png
ORGANIZER;CN="ATAS":MAILTO:CONTACT@ATAS.ORG.UK
END:VEVENT
END:VCALENDAR